BEGIN:VCALENDAR
VERSION:2.0
PRODID:-//Joe Bataan Official Website - ECPv6.15.18//NONSGML v1.0//EN
CALSCALE:GREGORIAN
METHOD:PUBLISH
X-ORIGINAL-URL:https://www.joebataanmusic.com
X-WR-CALDESC:Events for Joe Bataan Official Website
REFRESH-INTERVAL;VALUE=DURATION:PT1H
X-Robots-Tag:noindex
X-PUBLISHED-TTL:PT1H
BEGIN:VTIMEZONE
TZID:UTC
BEGIN:STANDARD
TZOFFSETFROM:+0000
TZOFFSETTO:+0000
TZNAME:UTC
DTSTART:20220101T000000
END:STANDARD
END:VTIMEZONE
BEGIN:VEVENT
DTSTART;TZID=UTC:20230210T200000
DTEND;TZID=UTC:20230210T200000
DTSTAMP:20260422T215737
CREATED:20230109T185204Z
LAST-MODIFIED:20230109T185204Z
UID:495-1676059200-1676059200@www.joebataanmusic.com
SUMMARY:Joe Bataan Globe Theatre Los Angeles
DESCRIPTION:Join The Only Show In Town On Feb 10th 2023 At The Globe Theatre- In Downtown Los Angeles With The ‘Young Hearts/Temprees And More Stay Tune For ‘A Night To Remember’
URL:https://www.joebataanmusic.com/event/joe-bataan-globe-theatre-los-angeles/
LOCATION:Globe Theatre Los Angeles\, 740 South Broadway\, Los Angeles\, CA\, 90014\, United States
ATTACH;FMTTYPE=image/jpeg:https://www.joebataanmusic.com/wp-content/uploads/2023/01/324257340_1447440869114584_6573117888851598158_n.jpg
END:VEVENT
END:VCALENDAR