BEGIN:VCALENDAR
VERSION:2.0
PRODID:-//Joe Bataan Official Website - ECPv6.15.18//NONSGML v1.0//EN
CALSCALE:GREGORIAN
METHOD:PUBLISH
X-WR-CALNAME:Joe Bataan Official Website
X-ORIGINAL-URL:https://www.joebataanmusic.com
X-WR-CALDESC:Events for Joe Bataan Official Website
REFRESH-INTERVAL;VALUE=DURATION:PT1H
X-Robots-Tag:noindex
X-PUBLISHED-TTL:PT1H
BEGIN:VTIMEZONE
TZID:UTC
BEGIN:STANDARD
TZOFFSETFROM:+0000
TZOFFSETTO:+0000
TZNAME:UTC
DTSTART:20220101T000000
END:STANDARD
END:VTIMEZONE
BEGIN:VEVENT
DTSTART;TZID=UTC:20230128T200000
DTEND;TZID=UTC:20230128T220000
DTSTAMP:20260422T233236
CREATED:20221227T162948Z
LAST-MODIFIED:20221227T162948Z
UID:488-1674936000-1674943200@www.joebataanmusic.com
SUMMARY:Joe Bataan and The Barrio Boys New Jersey
DESCRIPTION:JOIN US THE BARRIO BOYS+1 AND JOE BATAAN LATIN/SOUL INVASION
URL:https://www.joebataanmusic.com/event/joe-bataan-and-the-barrio-boys-new-jersey/
LOCATION:White Eagle Hall\, 337 Newark Ave\, Jersey City\, NJ\, United States
ATTACH;FMTTYPE=image/jpeg:https://www.joebataanmusic.com/wp-content/uploads/2022/12/311741204_634737724834282_1769953178222281895_n.jpg
END:VEVENT
END:VCALENDAR