BEGIN:VCALENDAR
VERSION:2.0
PRODID:-//Joe Bataan Official Website - ECPv6.15.18//NONSGML v1.0//EN
CALSCALE:GREGORIAN
METHOD:PUBLISH
X-WR-CALNAME:Joe Bataan Official Website
X-ORIGINAL-URL:https://www.joebataanmusic.com
X-WR-CALDESC:Events for Joe Bataan Official Website
REFRESH-INTERVAL;VALUE=DURATION:PT1H
X-Robots-Tag:noindex
X-PUBLISHED-TTL:PT1H
BEGIN:VTIMEZONE
TZID:UTC
BEGIN:STANDARD
TZOFFSETFROM:+0000
TZOFFSETTO:+0000
TZNAME:UTC
DTSTART:20210101T000000
END:STANDARD
END:VTIMEZONE
BEGIN:VEVENT
DTSTART;TZID=UTC:20220805T190000
DTEND;TZID=UTC:20220805T230000
DTSTAMP:20260423T103016
CREATED:20220420T203359Z
LAST-MODIFIED:20220420T203359Z
UID:382-1659726000-1659740400@www.joebataanmusic.com
SUMMARY:Cruisin The 505
DESCRIPTION:
URL:https://www.joebataanmusic.com/event/cruisin-the-505/
LOCATION:Rio Rancho\, 3001 Civic Center Circle\, Rio Rancho\, NM\, 87144\, United States
ATTACH;FMTTYPE=image/jpeg:https://www.joebataanmusic.com/wp-content/uploads/2022/04/August-5-2022.jpg
END:VEVENT
END:VCALENDAR