BEGIN:VCALENDAR
VERSION:2.0
PRODID:-//Joe Bataan Official Website - ECPv6.15.18//NONSGML v1.0//EN
CALSCALE:GREGORIAN
METHOD:PUBLISH
X-ORIGINAL-URL:https://www.joebataanmusic.com
X-WR-CALDESC:Events for Joe Bataan Official Website
REFRESH-INTERVAL;VALUE=DURATION:PT1H
X-Robots-Tag:noindex
X-PUBLISHED-TTL:PT1H
BEGIN:VTIMEZONE
TZID:UTC
BEGIN:STANDARD
TZOFFSETFROM:+0000
TZOFFSETTO:+0000
TZNAME:UTC
DTSTART:20210101T000000
END:STANDARD
END:VTIMEZONE
BEGIN:VEVENT
DTSTART;TZID=UTC:20220703T120000
DTEND;TZID=UTC:20220703T170000
DTSTAMP:20260423T120219
CREATED:20220625T161239Z
LAST-MODIFIED:20220625T161239Z
UID:424-1656849600-1656867600@www.joebataanmusic.com
SUMMARY:Joe Bataan And The Barrio Boys Live
DESCRIPTION:One time only in Brooklyn\, New York Afternoon Jam. Thanks to the Special Supporters Of The Joe Bataan Journey.
URL:https://www.joebataanmusic.com/event/joe-bataan-and-the-barrio-boys-live/
LOCATION:Union Pool\, 484 Union Ave\, Brooklyn\, NY\, United States
ATTACH;FMTTYPE=image/jpeg:https://www.joebataanmusic.com/wp-content/uploads/2022/03/272689110_10159024818503386_3378177390983013323_n.jpg
END:VEVENT
BEGIN:VEVENT
DTSTART;TZID=UTC:20220709T190000
DTEND;TZID=UTC:20220709T220000
DTSTAMP:20260423T120219
CREATED:20220625T153706Z
LAST-MODIFIED:20220625T160400Z
UID:412-1657393200-1657404000@www.joebataanmusic.com
SUMMARY:Joe Bataan Los Angeles
DESCRIPTION:Southern Soul Spinners Presents – Joe Bataan\, Westside Crew\, Nahko\, Ruben Molina
URL:https://www.joebataanmusic.com/event/joe-bataan-los-angeles/
LOCATION:The Levitt Pavilion\, 2230 W. 6th Street\, Los Angeles\, CA\, 90057\, United States
ATTACH;FMTTYPE=image/jpeg:https://www.joebataanmusic.com/wp-content/uploads/2022/06/6B80C907-EB5C-4D26-ACA2-E9FE4E0C2522.jpeg
END:VEVENT
BEGIN:VEVENT
DTSTART;TZID=UTC:20220716T130000
DTEND;TZID=UTC:20220716T200000
DTSTAMP:20260423T120219
CREATED:20220711T171729Z
LAST-MODIFIED:20220711T171729Z
UID:447-1657976400-1658001600@www.joebataanmusic.com
SUMMARY:Latino's Con Soul
DESCRIPTION:
URL:https://www.joebataanmusic.com/event/latinos-con-soul/
LOCATION:Sonido Del Valle\, 2108 1st St.\, Los Angeles\, CA\, 90033\, United States
ATTACH;FMTTYPE=image/jpeg:https://www.joebataanmusic.com/wp-content/uploads/2022/07/Joe-Bataan-July-16-2022.jpg
END:VEVENT
END:VCALENDAR