BEGIN:VCALENDAR
VERSION:2.0
PRODID:-//Joe Bataan Official Website - ECPv6.15.18//NONSGML v1.0//EN
CALSCALE:GREGORIAN
METHOD:PUBLISH
X-ORIGINAL-URL:https://www.joebataanmusic.com
X-WR-CALDESC:Events for Joe Bataan Official Website
REFRESH-INTERVAL;VALUE=DURATION:PT1H
X-Robots-Tag:noindex
X-PUBLISHED-TTL:PT1H
BEGIN:VTIMEZONE
TZID:UTC
BEGIN:STANDARD
TZOFFSETFROM:+0000
TZOFFSETTO:+0000
TZNAME:UTC
DTSTART:20220101T000000
END:STANDARD
END:VTIMEZONE
BEGIN:VEVENT
DTSTART;TZID=UTC:20230506T180000
DTEND;TZID=UTC:20230506T220000
DTSTAMP:20260422T220434
CREATED:20230308T171831Z
LAST-MODIFIED:20230405T170024Z
UID:540-1683396000-1683410400@www.joebataanmusic.com
SUMMARY:Cathedral High School Grand Theatre
DESCRIPTION:The King of Latin Soul Joe Bataan Along with Los Yesterdays\, Jackie Mendez\, Adrian Carmine\, and making her debut on stage in Los Angeles\, Cilla Guerrero. We are excited to announce\, also coming to perform from New Mexico and newest addition to the SOLA family\, singer\, song writer\, and author Marla LaLa Lopez! Click here to get tickets here.
URL:https://www.joebataanmusic.com/event/cathedral-high-school-grand-theatre/
LOCATION:Cathedral High School\, 1253 Bishops Rd\, Los Angeles\, CA\, 90012\, United States
ATTACH;FMTTYPE=image/png:https://www.joebataanmusic.com/wp-content/uploads/2023/03/Screenshot-2023-04-05-at-09-53-21-Facebook.png
END:VEVENT
BEGIN:VEVENT
DTSTART;TZID=UTC:20230603T000000
DTEND;TZID=UTC:20230603T000000
DTSTAMP:20260422T220434
CREATED:20230308T172157Z
LAST-MODIFIED:20230308T172157Z
UID:543-1685750400-1685750400@www.joebataanmusic.com
SUMMARY:Dukes 60th Anniversary Anaheim Majestic Garden Hotel
DESCRIPTION:Featuring Joe Bataan
URL:https://www.joebataanmusic.com/event/dukes-60th-anniversary-anaheim-majestic-garden-hotel/
LOCATION:Anaheim Majestic Garden Hotel\, 900 South Disneyland Drive\, Anaheim\, CA\, 92802\, United States
END:VEVENT
BEGIN:VEVENT
DTSTART;TZID=UTC:20230610T000000
DTEND;TZID=UTC:20230610T000000
DTSTAMP:20260422T220434
CREATED:20230308T172407Z
LAST-MODIFIED:20230308T172619Z
UID:546-1686355200-1686355200@www.joebataanmusic.com
SUMMARY:Logan's Barrio San Diego
DESCRIPTION:Joe Bataan performs in the Barrio Logan\, San Diego. The transformation into an art-centric neighborhood began as far back as the 1960s. When the construction of the Coronado Bridge encroached on a local park\, Barrio Logan residents re-claimed the park by painting enormous\, colorful murals on the bridge’s pillars.
URL:https://www.joebataanmusic.com/event/logans-barrio-san-diego/
LOCATION:CA
END:VEVENT
BEGIN:VEVENT
DTSTART;TZID=UTC:20230617T190000
DTEND;TZID=UTC:20230617T220000
DTSTAMP:20260422T220434
CREATED:20230529T165926Z
LAST-MODIFIED:20230529T170939Z
UID:572-1687028400-1687039200@www.joebataanmusic.com
SUMMARY:Latin Soul Father's Day Show
DESCRIPTION:Saturday June 17th\, King of Latin Soul returns to Southern California. Quiet Cannon\, Montebello\, California
URL:https://www.joebataanmusic.com/event/latin-soul-fathers-day-show/
LOCATION:Montebello Country Club\, 901 Via San Clemente\, Montebello\, CA\, 90640\, United States
ATTACH;FMTTYPE=image/jpeg:https://www.joebataanmusic.com/wp-content/uploads/2023/05/June-17-2023.jpg
END:VEVENT
BEGIN:VEVENT
DTSTART;TZID=UTC:20230702T000000
DTEND;TZID=UTC:20230702T000000
DTSTAMP:20260422T220434
CREATED:20230308T173211Z
LAST-MODIFIED:20230308T173211Z
UID:553-1688256000-1688256000@www.joebataanmusic.com
SUMMARY:Union Pool
DESCRIPTION:Featuring Joe Bataan
URL:https://www.joebataanmusic.com/event/union-pool/
LOCATION:Union Pool\, 484 Union Ave\, Brooklyn\, NY\, United States
END:VEVENT
BEGIN:VEVENT
DTSTART;TZID=UTC:20230715T000000
DTEND;TZID=UTC:20230715T000000
DTSTAMP:20260422T220434
CREATED:20230308T173056Z
LAST-MODIFIED:20230308T173056Z
UID:550-1689379200-1689379200@www.joebataanmusic.com
SUMMARY:Yerba Buena Festival
DESCRIPTION:Featuring Joe Bataan
URL:https://www.joebataanmusic.com/event/yerba-buena-festival/
LOCATION:Yerba Buena Gardens\, 760 Howard St\, San Francisco\, CA\, 94103\, United States
END:VEVENT
BEGIN:VEVENT
DTSTART;TZID=UTC:20230817T000000
DTEND;TZID=UTC:20230817T000000
DTSTAMP:20260422T220434
CREATED:20230330T203224Z
LAST-MODIFIED:20230330T203600Z
UID:558-1692230400-1692230400@www.joebataanmusic.com
SUMMARY:Joe Bataan and The Barrio Boys
DESCRIPTION:Listen to “Cry” by Joe Bataan. It’s a Good\, Good Feeling: The Latin Soul of Fania Record
URL:https://www.joebataanmusic.com/event/joe-bataan-and-the-barrio-boys/
LOCATION:New York State Veterans Home\, 17850 Linden Blvd.\, Jamaica\, NY\, 11434\, United States
ATTACH;FMTTYPE=image/jpeg:https://www.joebataanmusic.com/wp-content/uploads/2023/03/Fania-Packshot.jpeg-768x768-1.jpg
END:VEVENT
BEGIN:VEVENT
DTSTART;TZID=UTC:20230910T200000
DTEND;TZID=UTC:20230910T200000
DTSTAMP:20260422T220434
CREATED:20230905T232302Z
LAST-MODIFIED:20230905T232302Z
UID:590-1694376000-1694376000@www.joebataanmusic.com
SUMMARY:Vicki Solá & Joe Bataan
DESCRIPTION:Sunday\, September 10th @ 8pm ET\, Vicki Solá & Joe Bataan explode back onto the airwaves with their new show “SECOND SUNDAYS NEW YORK LATIN SOUL” streaming worldwide on mundosalsaradio.com \nDon’t miss this second installment of their innovative format playing Latin Soul\, Latin Jazz\, Jazz\, Salsa\, Soul and R&B!\nThe first show was very well received\, and we’re expecting an even larger audience for this next show. Speaking of expecting\, EXPECT THE UNEXPECTED! Don’t forget mundosalsaradio.com Sept 10th at 8pm ET!
URL:https://www.joebataanmusic.com/event/vicki-sola-joe-bataan/
LOCATION:CA
ATTACH;FMTTYPE=image/jpeg:https://www.joebataanmusic.com/wp-content/uploads/2023/09/Radio-Show-9-10-2023.jpg
END:VEVENT
BEGIN:VEVENT
DTSTART;TZID=UTC:20240127T200000
DTEND;TZID=UTC:20240127T230000
DTSTAMP:20260422T220434
CREATED:20231228T175343Z
LAST-MODIFIED:20231228T175343Z
UID:620-1706385600-1706396400@www.joebataanmusic.com
SUMMARY:Joe Bataan White Eagle Hall
DESCRIPTION:The King of Latin Soul\, Joe Bataan\, returns to White Eagle Hall on Saturday\, January 27th! With special guest\, The Jack Moves\, “Subway Joe\,” the legend himself\, and his red hot band will take the stage for and unforgettable night in Jersey City! Grab your dancing shoes and head to the link below for tickets! \nhttps://wl.seetickets.us/event/joe-bataan/576744… \n  \n 
URL:https://www.joebataanmusic.com/event/joe-bataan-white-eagle-hall/
LOCATION:White Eagle Hall\, 337 Newark Ave\, Jersey City\, NJ\, United States
ATTACH;FMTTYPE=image/jpeg:https://www.joebataanmusic.com/wp-content/uploads/2023/12/January-27-2023.jpg
END:VEVENT
BEGIN:VEVENT
DTSTART;TZID=UTC:20240210T190000
DTEND;TZID=UTC:20240210T230000
DTSTAMP:20260422T220434
CREATED:20231021T204714Z
LAST-MODIFIED:20231021T204854Z
UID:600-1707591600-1707606000@www.joebataanmusic.com
SUMMARY:Joe Bataan Long Beach
DESCRIPTION:Live LA Events & FKOA Presents the Return of CATCH YOU ON THE REBOUND – Long Beach. Join us on Valentine’s Day Weekend as the hottest Oldies Tour that has been selling out across the US returns to the Long Beach Arena with an all new line up. Brenton Wood & Barbara Mason return this year along with AARON FRAZER (OF DURAN JONES & THE INDICATION)\, & JOE BATAAN . Performing again in over 5 years THE LOVELITES\, along with Garland Green\, Funk artists THE BAR-KAYS and more legendary artists\, featuring other New Souldies artists THE SINSEERS\,  THE ALTONS & JOEY QUIÑOÑES and more. Don’t miss out as this year will definitely sell out once again. \nBRENTON WOOD\nJOE BATAAN\nAARON FRAZER\nBARBARA MASON\nTHE LOVELITES\nGARLAND GREEN\nTHE BAR-KAYS\nNB RIDAZ\nTHEE SINSEERS\nTHE ALTONS\nJOEY QUIÑOÑES\nLOS YESTERDAYS \n 
URL:https://www.joebataanmusic.com/event/joe-bataan-long-beach/
LOCATION:Long Beac Arena\, 300 E. OCEAN BLVD\, Long Beach\, CA\, 90802\, United States
ATTACH;FMTTYPE=image/jpeg:https://www.joebataanmusic.com/wp-content/uploads/2023/10/Joe-Bataan-2-10-2024.jpg
END:VEVENT
BEGIN:VEVENT
DTSTART;TZID=UTC:20240719T180000
DTEND;TZID=UTC:20240719T220000
DTSTAMP:20260422T220434
CREATED:20240712T200908Z
LAST-MODIFIED:20240712T200908Z
UID:670-1721412000-1721426400@www.joebataanmusic.com
SUMMARY:Joe Batann Celebrate Brooklyn
DESCRIPTION:The King of Latin Soul comes to #CelebrateBrooklyn. Joe Bataan\, Latin Soul virtuoso captures the essence of 60s & 70s NYC. Openers MERIDIAN BROTHERS bring psychedelic Latin Tropical vibes as Madame Vacile blends Afro-Caribbean styles. Please note\, Richie Ray will no longer be performing due to unforeseen circumstances
URL:https://www.joebataanmusic.com/event/joe-batann-celebrate-brooklyn/
LOCATION:Lena Horne Bandshell\, 141 Prospect Park W\, Brooklyn\, NY\, 11215\, United States
ATTACH;FMTTYPE=image/jpeg:https://www.joebataanmusic.com/wp-content/uploads/2024/07/Brooklyn-Festival-7-19-24.jpg
END:VEVENT
BEGIN:VEVENT
DTSTART;TZID=UTC:20240721T080000
DTEND;TZID=UTC:20240721T170000
DTSTAMP:20260422T220434
CREATED:20240530T152117Z
LAST-MODIFIED:20240530T152117Z
UID:642-1721548800-1721581200@www.joebataanmusic.com
SUMMARY:Joe Bataan Steven’s Steakhouse
DESCRIPTION:
URL:https://www.joebataanmusic.com/event/joe-bataan-stevens-steakhouse/
LOCATION:Steven’s Steakhouse\, 5332 Stevens Place.\, Commerce\, CA\, 90040\, United States
ATTACH;FMTTYPE=image/jpeg:https://www.joebataanmusic.com/wp-content/uploads/2024/05/444504816_10233602267577570_2780376037096365454_n.jpg
END:VEVENT
BEGIN:VEVENT
DTSTART;TZID=UTC:20240725T170000
DTEND;TZID=UTC:20240725T220000
DTSTAMP:20260422T220434
CREATED:20240612T183613Z
LAST-MODIFIED:20240612T183613Z
UID:648-1721926800-1721944800@www.joebataanmusic.com
SUMMARY:Joe Bataan Stevens Steak and Seafood House Restaurant
DESCRIPTION:
URL:https://www.joebataanmusic.com/event/joe-bataan-stevens-steak-and-seafood-house-restaurant/
LOCATION:Stevens Steak and Seafood House Restaurant\, 5332 Stevens Pl\, Commerce\, CA\, United States
ATTACH;FMTTYPE=image/jpeg:https://www.joebataanmusic.com/wp-content/uploads/2024/06/Joe-Bataan-Commerce.jpg
END:VEVENT
BEGIN:VEVENT
DTSTART;TZID=UTC:20240727T140000
DTEND;TZID=UTC:20240727T170000
DTSTAMP:20260422T220434
CREATED:20240412T212158Z
LAST-MODIFIED:20240412T212158Z
UID:629-1722088800-1722099600@www.joebataanmusic.com
SUMMARY:Latin Rock on the Dock
DESCRIPTION:It’s happening! Don’t miss it!\nOZOMATLI\, JOE BATAAN\, and more!!!\nTWO stages! / EIGHT bands!\n“LATIN ROCK ON THE DOCK”\, July 27\, 2024\nTickets now available at http://t.ly/lrod_lri  $20 off until April 14th
URL:https://www.joebataanmusic.com/event/latin-rock-on-the-dock/
LOCATION:Mare Island Latin Rock on the Dock\, 860 Nimitz Ave\, Vallejo\, CA\, 94592\, United States
ATTACH;FMTTYPE=image/jpeg:https://www.joebataanmusic.com/wp-content/uploads/2024/04/LATINROCKDOCK_05A-Final.jpg
END:VEVENT
BEGIN:VEVENT
DTSTART;TZID=UTC:20240817T130000
DTEND;TZID=UTC:20240817T170000
DTSTAMP:20260422T220434
CREATED:20240816T194944Z
LAST-MODIFIED:20240816T195111Z
UID:685-1723899600-1723914000@www.joebataanmusic.com
SUMMARY:The King of Latin Soul Mr. Joe Bataan Interview
DESCRIPTION:Saturday 1 pm\, Join us @BREAKING THRU podcast for an interview with The King of Latin Soul Mr. Joe Bataan View on FB: BREAKING THRU 1\n\nIG@BREAKING_THRU_\nyoutube@BREAKING_THRU\ntiktok@BREAKING_THRU
URL:https://www.joebataanmusic.com/event/the-king-of-latin-soul-mr-joe-bataan-interview/
LOCATION:CA
ATTACH;FMTTYPE=image/jpeg:https://www.joebataanmusic.com/wp-content/uploads/2024/08/455786808_10161800362609078_6753336971396895877_n.jpg
END:VEVENT
BEGIN:VEVENT
DTSTART;TZID=UTC:20240924T120000
DTEND;TZID=UTC:20240924T210000
DTSTAMP:20260422T220434
CREATED:20240817T022145Z
LAST-MODIFIED:20240817T022535Z
UID:691-1727179200-1727211600@www.joebataanmusic.com
SUMMARY:Joe Bataan  Festival of Philippine Arts and Culture
DESCRIPTION:Get tickets: https://www.eventbrite.com/e/2024-festival-of-philippine-arts-and-culture-fpac-tickets-987893073777
URL:https://www.joebataanmusic.com/event/joe-bataan-filmaris-la/
LOCATION:Point Fermin Park\, 4093 S Gaffey St\, San Pedro\, CA\, 90731\, United States
ATTACH;FMTTYPE=image/jpeg:https://www.joebataanmusic.com/wp-content/uploads/2024/08/Joe-Bataam-8-14-24.jpg
END:VEVENT
BEGIN:VEVENT
DTSTART;TZID=UTC:20241003T180000
DTEND;TZID=UTC:20241003T210000
DTSTAMP:20260422T220434
CREATED:20240930T155907Z
LAST-MODIFIED:20240930T155907Z
UID:706-1727978400-1727989200@www.joebataanmusic.com
SUMMARY:Joe Bataan Live in Awake\, NY
DESCRIPTION:
URL:https://www.joebataanmusic.com/event/joe-bataan-live-in-awake-ny/
LOCATION:Awake New York\, 62 Orchard Street\, Awake\, NY\, 10002\, United States
ATTACH;FMTTYPE=image/jpeg:https://www.joebataanmusic.com/wp-content/uploads/2024/09/Awake.jpg
END:VEVENT
BEGIN:VEVENT
DTSTART;TZID=UTC:20250322T080000
DTEND;TZID=UTC:20250322T180000
DTSTAMP:20260422T220434
CREATED:20250125T012158Z
LAST-MODIFIED:20250125T180808Z
UID:722-1742630400-1742666400@www.joebataanmusic.com
SUMMARY:Pachungo & Zoot Suit
DESCRIPTION:
URL:https://www.joebataanmusic.com/event/pachungo-zoot-suit/
LOCATION:Steven’s Steakhouse\, 5332 Stevens Place.\, Commerce\, CA\, 90040\, United States
ATTACH;FMTTYPE=image/jpeg:https://www.joebataanmusic.com/wp-content/uploads/2025/01/464184700_10161770171782453_5278735952584737201_n.jpg
END:VEVENT
END:VCALENDAR