BEGIN:VCALENDAR
VERSION:2.0
PRODID:-//Joe Bataan Official Website - ECPv6.15.18//NONSGML v1.0//EN
CALSCALE:GREGORIAN
METHOD:PUBLISH
X-WR-CALNAME:Joe Bataan Official Website
X-ORIGINAL-URL:https://www.joebataanmusic.com
X-WR-CALDESC:Events for Joe Bataan Official Website
REFRESH-INTERVAL;VALUE=DURATION:PT1H
X-Robots-Tag:noindex
X-PUBLISHED-TTL:PT1H
BEGIN:VTIMEZONE
TZID:UTC
BEGIN:STANDARD
TZOFFSETFROM:+0000
TZOFFSETTO:+0000
TZNAME:UTC
DTSTART:20210101T000000
END:STANDARD
END:VTIMEZONE
BEGIN:VEVENT
DTSTART;TZID=UTC:20221008T120000
DTEND;TZID=UTC:20221008T200000
DTSTAMP:20260423T084554
CREATED:20220914T000202Z
LAST-MODIFIED:20220914T000202Z
UID:474-1665230400-1665259200@www.joebataanmusic.com
SUMMARY:Joe Bataan Los Angeles
DESCRIPTION:Oct 8th MacArthur park Los Angeles 12-8 pm free.
URL:https://www.joebataanmusic.com/event/joe-bataan-los-angeles-2/
LOCATION:MacArthur Park\, 2230 W 6th St.\, Los Angeles\, CA\, 90057\, United States
ATTACH;FMTTYPE=image/jpeg:https://www.joebataanmusic.com/wp-content/uploads/2022/03/joe-bataan-20151025150311.jpg
END:VEVENT
END:VCALENDAR