BEGIN:VCALENDAR
VERSION:2.0
PRODID:-//Joe Bataan Official Website - ECPv6.15.18//NONSGML v1.0//EN
CALSCALE:GREGORIAN
METHOD:PUBLISH
X-ORIGINAL-URL:https://www.joebataanmusic.com
X-WR-CALDESC:Events for Joe Bataan Official Website
REFRESH-INTERVAL;VALUE=DURATION:PT1H
X-Robots-Tag:noindex
X-PUBLISHED-TTL:PT1H
BEGIN:VTIMEZONE
TZID:UTC
BEGIN:STANDARD
TZOFFSETFROM:+0000
TZOFFSETTO:+0000
TZNAME:UTC
DTSTART:20210101T000000
END:STANDARD
END:VTIMEZONE
BEGIN:VEVENT
DTSTART;TZID=UTC:20220528T180000
DTEND;TZID=UTC:20220528T233000
DTSTAMP:20260426T015714
CREATED:20220324T004234Z
LAST-MODIFIED:20220324T004234Z
UID:290-1653760800-1653780600@www.joebataanmusic.com
SUMMARY:Joe Bataan and The SOLA ALLSTAR BAND
DESCRIPTION:Look out FRESNO the Norcal Cosmic Soul 2022 tour is coming your way. Joe Bataan and the SOLA Record All-Stars are coming for you with special guest Thee Baby Cuffs\, The Intuitions & Thee Heart Tones in main support. Hosted by “G” & Lisa~Lisa LoveJamz On The Radio\, and we have great spinners like Ryan Tucker\, Casper\, Mr Groove and Manuel ELA Soul and more to be announced.\n\nSPECIAL GUESTS\nAdrian Carmine\nJackie Mendez\nwith special guest LIVE performances by:\nThee BabyCuffs\nThee HeartTones\nThee Intuitions
URL:https://www.joebataanmusic.com/event/joe-bataan-and-the-sola-allstar-band/
LOCATION:Tower Theater\, 815 E. Olive Ave.\, Fresno\, CA\, 93728\, United States
ATTACH;FMTTYPE=image/jpeg:https://www.joebataanmusic.com/wp-content/uploads/2022/03/cosmic-soul-tour-may-28-2022_.jpg
END:VEVENT
END:VCALENDAR