BEGIN:VCALENDAR
VERSION:2.0
PRODID:-//Joe Bataan Official Website - ECPv6.15.18//NONSGML v1.0//EN
CALSCALE:GREGORIAN
METHOD:PUBLISH
X-WR-CALNAME:Joe Bataan Official Website
X-ORIGINAL-URL:https://www.joebataanmusic.com
X-WR-CALDESC:Events for Joe Bataan Official Website
REFRESH-INTERVAL;VALUE=DURATION:PT1H
X-Robots-Tag:noindex
X-PUBLISHED-TTL:PT1H
BEGIN:VTIMEZONE
TZID:UTC
BEGIN:STANDARD
TZOFFSETFROM:+0000
TZOFFSETTO:+0000
TZNAME:UTC
DTSTART:20210101T000000
END:STANDARD
END:VTIMEZONE
BEGIN:VEVENT
DTSTART;TZID=UTC:20220527T190000
DTEND;TZID=UTC:20220527T190000
DTSTAMP:20260426T020646
CREATED:20220314T220412Z
LAST-MODIFIED:20220314T220730Z
UID:210-1653678000-1653678000@www.joebataanmusic.com
SUMMARY:Groupo Fantasma featuring Joe Bataan with Eddie And The Valiants
DESCRIPTION:The nine-piece collective formed in 2000 in Austin\, Texas consists of Jose Galeano (timbales\, vocals)\, Kino Esparza (vocals\, hand percussion)\, Beto Martinez (guitar)\, Greg Gonzalez (bass)\, John Speice (drums)\, Matthew “Sweet Lou” Holmes (congas)\, Gilbert Elorreaga (trumpet)\, Josh Levy (baritone saxophone) and Mark “Speedy” Gonzales (trombone). \nGrupo Fantasma has been praised as one of the most important independent acts in the Latin genre and has continually defied expectations to create one of the most unique musical voices to come out of the United States in the 21st century. In 2011\, they garnered further acclaim by winning a Grammy (their second such nomination) for their self–produced release El Existential on Nat Geo Music which the Wall Street Journal called “Latin music both new and traditional…vibrant fusions that transcend easy classification.”
URL:https://www.joebataanmusic.com/event/groupo-fantasma-featuring-joe-bataan-with-eddie-and-the-valiants/
LOCATION:The Paramount Theatre\, 713 Congress Avenue\, Austin\, TX\, 78701
ATTACH;FMTTYPE=image/jpeg:https://www.joebataanmusic.com/wp-content/uploads/2022/03/Grupo-Fantasma.jpg
END:VEVENT
END:VCALENDAR